BEGIN:VCALENDAR
VERSION:2.0
PRODID:-//I love my island - ECPv6.15.20//NONSGML v1.0//EN
CALSCALE:GREGORIAN
METHOD:PUBLISH
X-WR-CALNAME:I love my island
X-ORIGINAL-URL:https://ilovemyisland.org
X-WR-CALDESC:Events for I love my island
REFRESH-INTERVAL;VALUE=DURATION:PT1H
X-Robots-Tag:noindex
X-PUBLISHED-TTL:PT1H
BEGIN:VTIMEZONE
TZID:America/New_York
BEGIN:DAYLIGHT
TZOFFSETFROM:-0500
TZOFFSETTO:-0400
TZNAME:EDT
DTSTART:20250309T070000
END:DAYLIGHT
BEGIN:STANDARD
TZOFFSETFROM:-0400
TZOFFSETTO:-0500
TZNAME:EST
DTSTART:20251102T060000
END:STANDARD
BEGIN:DAYLIGHT
TZOFFSETFROM:-0500
TZOFFSETTO:-0400
TZNAME:EDT
DTSTART:20260308T070000
END:DAYLIGHT
BEGIN:STANDARD
TZOFFSETFROM:-0400
TZOFFSETTO:-0500
TZNAME:EST
DTSTART:20261101T060000
END:STANDARD
BEGIN:DAYLIGHT
TZOFFSETFROM:-0500
TZOFFSETTO:-0400
TZNAME:EDT
DTSTART:20270314T070000
END:DAYLIGHT
BEGIN:STANDARD
TZOFFSETFROM:-0400
TZOFFSETTO:-0500
TZNAME:EST
DTSTART:20271107T060000
END:STANDARD
END:VTIMEZONE
BEGIN:VEVENT
DTSTART;TZID=America/New_York:20260423T120000
DTEND;TZID=America/New_York:20260423T150000
DTSTAMP:20260423T060958
CREATED:20260330T153225Z
LAST-MODIFIED:20260408T181933Z
UID:10002019-1776945600-1776956400@ilovemyisland.org
SUMMARY:Crafts with Bre: Pressed Flower Craft
DESCRIPTION:All are Welcome to come to our ILMI Senior Resource Center for Crafting with Bre!! We will be using pressed flowers to make a beautiful piece! Refreshments will be provided. We love Bre and this is such a fun activity.
URL:https://ilovemyisland.org/event/crafts-with-bre-pressed-flower-craft/
LOCATION:ILMI Senior Resource Center\, 230 E Merritt Island Cswy #106\, Merritt Island\, FL\, 32952
END:VEVENT
END:VCALENDAR